BEGIN:VCALENDAR
VERSION:2.0
PRODID:-//STADTKULTUR HAMBURG//kultur-hamburg.de///DE
CALSCALE:GREGORIAN
BEGIN:VEVENT
X-WR-TIMEZONE:Europe/Berlin
DTSTART:20131106T163000
DTEND:20131106T173000
LOCATION:Bramfelder Kulturladen e. V. - BRAKULA \, Bramfelder Chaussee 265 \, 22177 Hamburg
DTSTAMP:20260422T204759
SUMMARY:Gitarre für Anfänger
URL;VALUE=URI:https://www.kultur-hamburg.de/kurse_workshops/gitarre-fuer-anfaenger-134893
DESCRIPTION:
UID:52978f710004d7420f71773e39018784@kulturhamburg
END:VEVENT
END:VCALENDAR