BEGIN:VCALENDAR
VERSION:2.0
PRODID:-//STADTKULTUR HAMBURG//kultur-hamburg.de///DE
CALSCALE:GREGORIAN
BEGIN:VEVENT
X-WR-TIMEZONE:Europe/Berlin
DTSTART:20130717T160000
DTEND:20130717T170000
LOCATION:Bramfelder Kulturladen e. V. - BRAKULA \, Bramfelder Chaussee 265 \, 22177 Hamburg
DTSTAMP:20260426T002652
SUMMARY:Kinderatelier
URL;VALUE=URI:https://www.kultur-hamburg.de/kurse_workshops/kinderatelier-134928
DESCRIPTION:
UID:4bc7abdd11e31c6f3559210da0950b86@kulturhamburg
END:VEVENT
END:VCALENDAR