BEGIN:VCALENDAR
VERSION:2.0
PRODID:-//STADTKULTUR HAMBURG//kultur-hamburg.de///DE
CALSCALE:GREGORIAN
BEGIN:VEVENT
X-WR-TIMEZONE:Europe/Berlin
DTSTART:20130807T160000
DTEND:20130807T170000
LOCATION:Bramfelder Kulturladen e. V. - BRAKULA \, Bramfelder Chaussee 265 \, 22177 Hamburg
DTSTAMP:20260425T191729
SUMMARY:Kinderatelier
URL;VALUE=URI:https://www.kultur-hamburg.de/kurse_workshops/kinderatelier-134931
DESCRIPTION:
UID:6d57e54bafc194f28e521879d7d2dacf@kulturhamburg
END:VEVENT
END:VCALENDAR