BEGIN:VCALENDAR
VERSION:2.0
PRODID:-//STADTKULTUR HAMBURG//kultur-hamburg.de///DE
CALSCALE:GREGORIAN
BEGIN:VEVENT
X-WR-TIMEZONE:Europe/Berlin
DTSTART:20130904T160000
DTEND:20130904T170000
LOCATION:Bramfelder Kulturladen e. V. - BRAKULA \, Bramfelder Chaussee 265 \, 22177 Hamburg
DTSTAMP:20260423T114945
SUMMARY:Kinderatelier
URL;VALUE=URI:https://www.kultur-hamburg.de/kurse_workshops/kinderatelier-134935
DESCRIPTION:
UID:89e19432e55a16cb4bdb3d6f274a069c@kulturhamburg
END:VEVENT
END:VCALENDAR