BEGIN:VCALENDAR
VERSION:2.0
PRODID:-//STADTKULTUR HAMBURG//kultur-hamburg.de///DE
CALSCALE:GREGORIAN
BEGIN:VEVENT
X-WR-TIMEZONE:Europe/Berlin
DTSTART:20130911T160000
DTEND:20130911T170000
LOCATION:Bramfelder Kulturladen e. V. - BRAKULA \, Bramfelder Chaussee 265 \, 22177 Hamburg
DTSTAMP:20260423T103718
SUMMARY:Kinderatelier
URL;VALUE=URI:https://www.kultur-hamburg.de/kurse_workshops/kinderatelier-134936
DESCRIPTION:
UID:9658b16b8114fd2561f13266dbb6890a@kulturhamburg
END:VEVENT
END:VCALENDAR