BEGIN:VCALENDAR
VERSION:2.0
PRODID:-//STADTKULTUR HAMBURG//kultur-hamburg.de///DE
CALSCALE:GREGORIAN
BEGIN:VEVENT
X-WR-TIMEZONE:Europe/Berlin
DTSTART:20131009T160000
DTEND:20131009T170000
LOCATION:Bramfelder Kulturladen e. V. - BRAKULA \, Bramfelder Chaussee 265 \, 22177 Hamburg
DTSTAMP:20260423T033934
SUMMARY:Kinderatelier
URL;VALUE=URI:https://www.kultur-hamburg.de/kurse_workshops/kinderatelier-134940
DESCRIPTION:
UID:990d62ef716ce097ef2c54419dc77bf9@kulturhamburg
END:VEVENT
END:VCALENDAR