BEGIN:VCALENDAR
VERSION:2.0
PRODID:-//STADTKULTUR HAMBURG//kultur-hamburg.de///DE
CALSCALE:GREGORIAN
BEGIN:VEVENT
X-WR-TIMEZONE:Europe/Berlin
DTSTART:20130903T103000
DTEND:20130903T123000
LOCATION:Lola Rogge Schule \, Landwehr 11-13 \, 22087 Hamburg
DTSTAMP:20260423T120857
SUMMARY:LOLA ROGGE SCHULE DIMO WORKSHOPS – PROFITRAINING – OPEN CLASS
URL;VALUE=URI:https://www.kultur-hamburg.de/kurse_workshops/lola-rogge-schule-dimo-workshops--profitraining--open-class-136091
DESCRIPTION:
UID:22406275733bde63037fb5e25375aa05@kulturhamburg
END:VEVENT
END:VCALENDAR