BEGIN:VCALENDAR
VERSION:2.0
PRODID:-//STADTKULTUR HAMBURG//kultur-hamburg.de///DE
CALSCALE:GREGORIAN
BEGIN:VEVENT
X-WR-TIMEZONE:Europe/Berlin
DTSTART:20130910T103000
DTEND:20130910T123000
LOCATION:Lola Rogge Schule \, Landwehr 11-13 \, 22087 Hamburg
DTSTAMP:20260423T103744
SUMMARY:LOLA ROGGE SCHULE DIMO WORKSHOPS – PROFITRAINING – OPEN CLASS
URL;VALUE=URI:https://www.kultur-hamburg.de/kurse_workshops/lola-rogge-schule-dimo-workshops--profitraining--open-class-136092
DESCRIPTION:
UID:13eb48e652eef0a65d91fbde00520cc8@kulturhamburg
END:VEVENT
END:VCALENDAR