BEGIN:VCALENDAR
VERSION:2.0
PRODID:-//STADTKULTUR HAMBURG//kultur-hamburg.de///DE
CALSCALE:GREGORIAN
BEGIN:VEVENT
X-WR-TIMEZONE:Europe/Berlin
DTSTART:20130917T103000
DTEND:20130917T123000
LOCATION:Lola Rogge Schule \, Landwehr 11-13 \, 22087 Hamburg
DTSTAMP:20260423T091801
SUMMARY:LOLA ROGGE SCHULE DIMO WORKSHOPS – PROFITRAINING – OPEN CLASS
URL;VALUE=URI:https://www.kultur-hamburg.de/kurse_workshops/lola-rogge-schule-dimo-workshops--profitraining--open-class-136094
DESCRIPTION:
UID:624e112bcfb8c2be847dad976ed48fb3@kulturhamburg
END:VEVENT
END:VCALENDAR