BEGIN:VCALENDAR
VERSION:2.0
PRODID:-//STADTKULTUR HAMBURG//kultur-hamburg.de///DE
CALSCALE:GREGORIAN
BEGIN:VEVENT
X-WR-TIMEZONE:Europe/Berlin
DTSTART:20130924T103000
DTEND:20130924T123000
LOCATION:Lola Rogge Schule \, Landwehr 11-13 \, 22087 Hamburg
DTSTAMP:20260423T072055
SUMMARY:LOLA ROGGE SCHULE DIMO WORKSHOPS – PROFITRAINING – OPEN CLASS
URL;VALUE=URI:https://www.kultur-hamburg.de/kurse_workshops/lola-rogge-schule-dimo-workshops--profitraining--open-class-136095
DESCRIPTION:
UID:2b8ff015668f98e6a19c4fecdb06cece@kulturhamburg
END:VEVENT
END:VCALENDAR