BEGIN:VCALENDAR
VERSION:2.0
PRODID:-//STADTKULTUR HAMBURG//kultur-hamburg.de///DE
CALSCALE:GREGORIAN
BEGIN:VEVENT
X-WR-TIMEZONE:Europe/Berlin
DTSTART:20131227T173000
DTEND:20131227T183000
LOCATION:Backstube Fuhlsbüttel e.V. \, Am Hasenberge 48 \, 22337 Hamburg
DTSTAMP:20260420T095836
SUMMARY:Kreativer Tanz
URL;VALUE=URI:https://www.kultur-hamburg.de/kurse_workshops/kreativer-tanz-136822
DESCRIPTION:Tanzen als Ausdruck für Lebensfreude!
UID:9bb095360aea882358a853dcb81a8b4d@kulturhamburg
END:VEVENT
END:VCALENDAR