BEGIN:VCALENDAR
VERSION:2.0
PRODID:-//STADTKULTUR HAMBURG//kultur-hamburg.de///DE
CALSCALE:GREGORIAN
BEGIN:VEVENT
X-WR-TIMEZONE:Europe/Berlin
DTSTART:20140103T173000
DTEND:20140103T183000
LOCATION:Backstube Fuhlsbüttel e.V. \, Am Hasenberge 48 \, 22337 Hamburg
DTSTAMP:20260420T081020
SUMMARY:Kreativer Tanz
URL;VALUE=URI:https://www.kultur-hamburg.de/kurse_workshops/kreativer-tanz-136823
DESCRIPTION:Tanzen als Ausdruck für Lebensfreude!
UID:e41757b8b2df40bae6eb352a74fb6193@kulturhamburg
END:VEVENT
END:VCALENDAR