BEGIN:VCALENDAR
VERSION:2.0
PRODID:-//STADTKULTUR HAMBURG//kultur-hamburg.de///DE
CALSCALE:GREGORIAN
BEGIN:VEVENT
X-WR-TIMEZONE:Europe/Berlin
DTSTART:20140110T173000
DTEND:20140110T183000
LOCATION:Backstube Fuhlsbüttel e.V. \, Am Hasenberge 48 \, 22337 Hamburg
DTSTAMP:20260420T095834
SUMMARY:Kreativer Tanz
URL;VALUE=URI:https://www.kultur-hamburg.de/kurse_workshops/kreativer-tanz-136824
DESCRIPTION:Tanzen als Ausdruck für Lebensfreude!
UID:e4ca46a045c253bab7190a98450f25e7@kulturhamburg
END:VEVENT
END:VCALENDAR