BEGIN:VCALENDAR
VERSION:2.0
PRODID:-//STADTKULTUR HAMBURG//kultur-hamburg.de///DE
CALSCALE:GREGORIAN
BEGIN:VEVENT
X-WR-TIMEZONE:Europe/Berlin
DTSTART:20140124T173000
DTEND:20140124T183000
LOCATION:Backstube Fuhlsbüttel e.V. \, Am Hasenberge 48 \, 22337 Hamburg
DTSTAMP:20260422T124458
SUMMARY:Kreativer Tanz
URL;VALUE=URI:https://www.kultur-hamburg.de/kurse_workshops/kreativer-tanz-136826
DESCRIPTION:Tanzen als Ausdruck für Lebensfreude!
UID:a6f50cfe7f5592768c327ff67adc851e@kulturhamburg
END:VEVENT
END:VCALENDAR