BEGIN:VCALENDAR
VERSION:2.0
PRODID:-//STADTKULTUR HAMBURG//kultur-hamburg.de///DE
CALSCALE:GREGORIAN
BEGIN:VEVENT
X-WR-TIMEZONE:Europe/Berlin
DTSTART:20140131T173000
DTEND:20140131T183000
LOCATION:Backstube Fuhlsbüttel e.V. \, Am Hasenberge 48 \, 22337 Hamburg
DTSTAMP:20260422T141500
SUMMARY:Kreativer Tanz
URL;VALUE=URI:https://www.kultur-hamburg.de/kurse_workshops/kreativer-tanz-136827
DESCRIPTION:Tanzen als Ausdruck für Lebensfreude!
UID:69c99b18ec8caf10c46cff231110b221@kulturhamburg
END:VEVENT
END:VCALENDAR