BEGIN:VCALENDAR
VERSION:2.0
PRODID:-//STADTKULTUR HAMBURG//kultur-hamburg.de///DE
CALSCALE:GREGORIAN
BEGIN:VEVENT
X-WR-TIMEZONE:Europe/Berlin
DTSTART:20131220T163000
DTEND:20131220T171500
LOCATION:Backstube Fuhlsbüttel e.V. \, Am Hasenberge 48 \, 22337 Hamburg
DTSTAMP:20260422T111506
SUMMARY:Quena-Flötengruppe
URL;VALUE=URI:https://www.kultur-hamburg.de/kurse_workshops/quena-floetengruppe-136856
DESCRIPTION:Quena(Kena) - südamerikanische Flöte der Indios
UID:6e68e25154b49cffc30e14c636eec712@kulturhamburg
END:VEVENT
END:VCALENDAR