BEGIN:VCALENDAR
VERSION:2.0
PRODID:-//STADTKULTUR HAMBURG//kultur-hamburg.de///DE
CALSCALE:GREGORIAN
BEGIN:VEVENT
X-WR-TIMEZONE:Europe/Berlin
DTSTART:20131227T163000
DTEND:20131227T171500
LOCATION:Backstube Fuhlsbüttel e.V. \, Am Hasenberge 48 \, 22337 Hamburg
DTSTAMP:20260420T095901
SUMMARY:Quena-Flötengruppe
URL;VALUE=URI:https://www.kultur-hamburg.de/kurse_workshops/quena-floetengruppe-136857
DESCRIPTION:Quena(Kena) - südamerikanische Flöte der Indios
UID:407471db0776bef45beb095e4eba3138@kulturhamburg
END:VEVENT
END:VCALENDAR