BEGIN:VCALENDAR
VERSION:2.0
PRODID:-//STADTKULTUR HAMBURG//kultur-hamburg.de///DE
CALSCALE:GREGORIAN
BEGIN:VEVENT
X-WR-TIMEZONE:Europe/Berlin
DTSTART:20140103T163000
DTEND:20140103T171500
LOCATION:Backstube Fuhlsbüttel e.V. \, Am Hasenberge 48 \, 22337 Hamburg
DTSTAMP:20260420T081009
SUMMARY:Quena-Flötengruppe
URL;VALUE=URI:https://www.kultur-hamburg.de/kurse_workshops/quena-floetengruppe-136858
DESCRIPTION:Quena(Kena) - südamerikanische Flöte der Indios
UID:cb7f9c1b505470f9eb281f03068c18e0@kulturhamburg
END:VEVENT
END:VCALENDAR