BEGIN:VCALENDAR
VERSION:2.0
PRODID:-//STADTKULTUR HAMBURG//kultur-hamburg.de///DE
CALSCALE:GREGORIAN
BEGIN:VEVENT
X-WR-TIMEZONE:Europe/Berlin
DTSTART:20140117T163000
DTEND:20140117T171500
LOCATION:Backstube Fuhlsbüttel e.V. \, Am Hasenberge 48 \, 22337 Hamburg
DTSTAMP:20260422T111507
SUMMARY:Quena-Flötengruppe
URL;VALUE=URI:https://www.kultur-hamburg.de/kurse_workshops/quena-floetengruppe-136860
DESCRIPTION:Quena(Kena) - südamerikanische Flöte der Indios
UID:d1c278a8b27c6ae5b2197fc816beda5d@kulturhamburg
END:VEVENT
END:VCALENDAR