BEGIN:VCALENDAR
VERSION:2.0
PRODID:-//STADTKULTUR HAMBURG//kultur-hamburg.de///DE
CALSCALE:GREGORIAN
BEGIN:VEVENT
X-WR-TIMEZONE:Europe/Berlin
DTSTART:20140131T163000
DTEND:20140131T171500
LOCATION:Backstube Fuhlsbüttel e.V. \, Am Hasenberge 48 \, 22337 Hamburg
DTSTAMP:20260422T141459
SUMMARY:Quena-Flötengruppe
URL;VALUE=URI:https://www.kultur-hamburg.de/kurse_workshops/quena-floetengruppe-136862
DESCRIPTION:Quena(Kena) - südamerikanische Flöte der Indios
UID:05f9dd9b9669ffedcf1b1f661944aac7@kulturhamburg
END:VEVENT
END:VCALENDAR