BEGIN:VCALENDAR
VERSION:2.0
PRODID:-//STADTKULTUR HAMBURG//kultur-hamburg.de///DE
CALSCALE:GREGORIAN
BEGIN:VEVENT
X-WR-TIMEZONE:Europe/Berlin
DTSTART:20140304T110000
DTEND:20140306T150000
LOCATION:TASK Schauspielschule für Kinder und Jugendliche \, Stresemannstraße 163 (Neue Flora) \, 22769 Hamburg
DTSTAMP:20260422T222645
SUMMARY:Trickfilm-selbst gemacht! Ferien-Workshop ab 8 J. - TASK Schauspielschule
URL;VALUE=URI:https://www.kultur-hamburg.de/kurse_workshops/trickfilm-selbst-gemacht!-ferien-workshop-ab-8-j.-task-schauspielschule-141421
DESCRIPTION:Von Klonenkriegern und Sternzerstörern. Wir erarbeiten einen eigenen Stop-Motion-Film
UID:c38566537f4aa4001c4fc120e74f33b9@kulturhamburg
END:VEVENT
END:VCALENDAR