BEGIN:VCALENDAR
VERSION:2.0
PRODID:-//STADTKULTUR HAMBURG//kultur-hamburg.de///DE
CALSCALE:GREGORIAN
BEGIN:VEVENT
X-WR-TIMEZONE:Europe/Berlin
DTSTART:20140311T110000
DTEND:20140313T150000
LOCATION:TASK Schauspielschule für Kinder und Jugendliche \, Stresemannstraße 163 (Neue Flora) \, 22769 Hamburg
DTSTAMP:20260423T002005
SUMMARY:Wir drehen einen Film! Ferien-Workshop ab 10 J. - TASK Schauspielschule
URL;VALUE=URI:https://www.kultur-hamburg.de/kurse_workshops/wir-drehen-einen-film!-ferien-workshop-ab-10-j.-task-schauspielschule-141425
DESCRIPTION:Hier entwickeln die Teilnehmer nach einem Drehbuch einen eigenen kl. Spielfilm. Die Kursgebühr beinhaltet eine DVD mit dem Kurzfilm!
UID:bb6f49c94c1085fb56cd1bc0eacfb4a9@kulturhamburg
END:VEVENT
END:VCALENDAR