BEGIN:VCALENDAR
VERSION:2.0
PRODID:-//STADTKULTUR HAMBURG//kultur-hamburg.de///DE
CALSCALE:GREGORIAN
BEGIN:VEVENT
X-WR-TIMEZONE:Europe/Berlin
DTSTART:20140122T100000
DTEND:20140122T123000
LOCATION:Lenzsiedlung e.V. \, Julius-Vosseler-Straße 193 \, 22527 Hamburg
DTSTAMP:20260422T124414
SUMMARY:Deutschkurs für Frauen
URL;VALUE=URI:https://www.kultur-hamburg.de/kurse_workshops/deutschkurs-fuer-frauen-141749
DESCRIPTION:Offener und regelmäßiger Deutschkurs für Frauen. Immer Montag und Mittwoch. Sie können jederzeit einsteigen.
UID:45e8fe97584f29d0e1192b53ebb14edf@kulturhamburg
END:VEVENT
END:VCALENDAR