BEGIN:VCALENDAR
VERSION:2.0
PRODID:-//STADTKULTUR HAMBURG//kultur-hamburg.de///DE
CALSCALE:GREGORIAN
BEGIN:VEVENT
X-WR-TIMEZONE:Europe/Berlin
DTSTART:20140303T100000
DTEND:20140303T123000
LOCATION:Lenzsiedlung e.V. \, Julius-Vosseler-Straße 193 \, 22527 Hamburg
DTSTAMP:20260422T222647
SUMMARY:Deutschkurs für Frauen
URL;VALUE=URI:https://www.kultur-hamburg.de/kurse_workshops/deutschkurs-fuer-frauen-141760
DESCRIPTION:Offener und regelmäßiger Deutschkurs für Frauen. Immer Montag und Mittwoch. Sie können jederzeit einsteigen.
UID:a2e93c33ab1c0441c8edc9ba32b58bdd@kulturhamburg
END:VEVENT
END:VCALENDAR