BEGIN:VCALENDAR
VERSION:2.0
PRODID:-//STADTKULTUR HAMBURG//kultur-hamburg.de///DE
CALSCALE:GREGORIAN
BEGIN:VEVENT
X-WR-TIMEZONE:Europe/Berlin
DTSTART:20140317T100000
DTEND:20140317T123000
LOCATION:Lenzsiedlung e.V. \, Julius-Vosseler-Straße 193 \, 22527 Hamburg
DTSTAMP:20260423T015812
SUMMARY:Deutschkurs für Frauen
URL;VALUE=URI:https://www.kultur-hamburg.de/kurse_workshops/deutschkurs-fuer-frauen-141764
DESCRIPTION:Offener und regelmäßiger Deutschkurs für Frauen. Immer Montag und Mittwoch. Sie können jederzeit einsteigen.
UID:72d078b06066b5f8c66731fb757afb4b@kulturhamburg
END:VEVENT
END:VCALENDAR