BEGIN:VCALENDAR
VERSION:2.0
PRODID:-//STADTKULTUR HAMBURG//kultur-hamburg.de///DE
CALSCALE:GREGORIAN
BEGIN:VEVENT
X-WR-TIMEZONE:Europe/Berlin
DTSTART:20140407T100000
DTEND:20140407T123000
LOCATION:Lenzsiedlung e.V. \, Julius-Vosseler-Straße 193 \, 22527 Hamburg
DTSTAMP:20260423T072143
SUMMARY:Deutschkurs für Frauen
URL;VALUE=URI:https://www.kultur-hamburg.de/kurse_workshops/deutschkurs-fuer-frauen-141770
DESCRIPTION:Offener und regelmäßiger Deutschkurs für Frauen. Immer Montag und Mittwoch. Sie können jederzeit einsteigen.
UID:3f26d28be8eb6e1c5e4e0b846bebad8b@kulturhamburg
END:VEVENT
END:VCALENDAR