BEGIN:VCALENDAR
VERSION:2.0
PRODID:-//STADTKULTUR HAMBURG//kultur-hamburg.de///DE
CALSCALE:GREGORIAN
BEGIN:VEVENT
X-WR-TIMEZONE:Europe/Berlin
DTSTART:20140618T100000
DTEND:20140618T123000
LOCATION:Lenzsiedlung e.V. \, Julius-Vosseler-Straße 193 \, 22527 Hamburg
DTSTAMP:20260423T234220
SUMMARY:Deutschkurs für Frauen
URL;VALUE=URI:https://www.kultur-hamburg.de/kurse_workshops/deutschkurs-fuer-frauen-141791
DESCRIPTION:Offener und regelmäßiger Deutschkurs für Frauen. Immer Montag und Mittwoch. Sie können jederzeit einsteigen.
UID:8e1971f7f73eef50695eff8209bb8176@kulturhamburg
END:VEVENT
END:VCALENDAR