BEGIN:VCALENDAR
VERSION:2.0
PRODID:-//STADTKULTUR HAMBURG//kultur-hamburg.de///DE
CALSCALE:GREGORIAN
BEGIN:VEVENT
X-WR-TIMEZONE:Europe/Berlin
DTSTART:20140621T100000
DTEND:20140621T160000
LOCATION:Lichthof Theater \, Mendelssohnstraße 15 \, 22761 Hamburg
DTSTAMP:20260423T234215
SUMMARY:Improvisationstheater für Einsteiger
URL;VALUE=URI:https://www.kultur-hamburg.de/kurse_workshops/improvisationstheater-fuer-einsteiger-141979
DESCRIPTION:Ohne Plan, ohne Rollenvorgabe, ohne Text auf die leere Bühne - beim Improvisationstheater entstehen die überraschenden, fantastischen Geschichten aus dem Moment heraus. Jede Szene ist eine Premiere.

In unseren Workshops erarbeiten wir die Grundprinzipien des Improvisationstheaters nach Keith Johnstone. Temporeiche, ungewohnte, spielerische Aufgaben und Theaterübungen fördern und fordern neue Wege, neue Ausdrucksformen und führen uns raus aus dem Kopf: Mitten ins Herz und ins Spiel!

 

Unsere Workshops richtet sich an alle, die Lust auf lebendige Kommunikation haben, die einfach Theater spielen wollen oder die neugierig sind, mal etwas anderes zu machen.

 
Info und Anmeldung unter kontakt@diespieler.com oder 0171-3153738
UID:dd83f0890b4e75c6599eccc1eb759881@kulturhamburg
END:VEVENT
END:VCALENDAR