BEGIN:VCALENDAR
VERSION:2.0
PRODID:-//STADTKULTUR HAMBURG//kultur-hamburg.de///DE
CALSCALE:GREGORIAN
BEGIN:VEVENT
X-WR-TIMEZONE:Europe/Berlin
DTSTART:20140203T190000
DTEND:20140630T210000
LOCATION:Theaterpraxis Lissy Staud \, Lutterothstraße 51 \, 20255 Hamburg
DTSTAMP:20260422T154745
SUMMARY:Was macht die Liebe?
URL;VALUE=URI:https://www.kultur-hamburg.de/kurse_workshops/was-macht-die-liebe-143677
DESCRIPTION:
UID:c86e2bc76e6262a53d2aff1339699447@kulturhamburg
END:VEVENT
END:VCALENDAR