BEGIN:VCALENDAR
VERSION:2.0
PRODID:-//STADTKULTUR HAMBURG//kultur-hamburg.de///DE
CALSCALE:GREGORIAN
BEGIN:VEVENT
X-WR-TIMEZONE:Europe/Berlin
DTSTART:20140206T190000
DTEND:20140206T210000
LOCATION:Theaterpraxis Lissy Staud \, Lutterothstraße 51 \, 20255 Hamburg
DTSTAMP:20260422T155622
SUMMARY:Schnupperabend: Basistraining für Anfänger
URL;VALUE=URI:https://www.kultur-hamburg.de/kurse_workshops/schnupperabend-basistraining-fuer-anfaenger-143682
DESCRIPTION:
UID:bc290c754b498a302aab657da3df84d2@kulturhamburg
END:VEVENT
END:VCALENDAR