BEGIN:VCALENDAR
VERSION:2.0
PRODID:-//STADTKULTUR HAMBURG//kultur-hamburg.de///DE
CALSCALE:GREGORIAN
BEGIN:VEVENT
X-WR-TIMEZONE:Europe/Berlin
DTSTART:20140219T191500
DTEND:20140219T211500
LOCATION:Theaterpraxis Lissy Staud \, Lutterothstraße 51 \, 20255 Hamburg
DTSTAMP:20260422T190809
SUMMARY:Theaterkurs: "Zeit für einen Rollenwechsel"
URL;VALUE=URI:https://www.kultur-hamburg.de/kurse_workshops/theaterkurs-zeit-fuer-einen-rollenwechsel-143686
DESCRIPTION:
UID:1dff5b81cffe81f7590672267ea09350@kulturhamburg
END:VEVENT
END:VCALENDAR