BEGIN:VCALENDAR
VERSION:2.0
PRODID:-//STADTKULTUR HAMBURG//kultur-hamburg.de///DE
CALSCALE:GREGORIAN
BEGIN:VEVENT
X-WR-TIMEZONE:Europe/Berlin
DTSTART:20140210T190000
DTEND:20140630T210000
LOCATION:Theaterpraxis Lissy Staud \, Lutterothstraße 51 \, 20255 Hamburg
DTSTAMP:20260422T174130
SUMMARY:Theaterkurs: Was macht die Liebe?
URL;VALUE=URI:https://www.kultur-hamburg.de/kurse_workshops/theaterkurs-was-macht-die-liebe-143711
DESCRIPTION:
UID:6933d296218febd8eb229e9b2338086d@kulturhamburg
END:VEVENT
END:VCALENDAR