BEGIN:VCALENDAR
VERSION:2.0
PRODID:-//STADTKULTUR HAMBURG//kultur-hamburg.de///DE
CALSCALE:GREGORIAN
BEGIN:VEVENT
X-WR-TIMEZONE:Europe/Berlin
DTSTART:20140219T191500
DTEND:20140625T211500
LOCATION:Theaterpraxis Lissy Staud \, Lutterothstraße 51 \, 20255 Hamburg
DTSTAMP:20260422T190803
SUMMARY:Theaterkurs: Zeit für einen Rollenwechsel.
URL;VALUE=URI:https://www.kultur-hamburg.de/kurse_workshops/theaterkurs-zeit-fuer-einen-rollenwechsel.-143735
DESCRIPTION:
UID:8e8d4eeb1b36a63320511638b26f457e@kulturhamburg
END:VEVENT
END:VCALENDAR