BEGIN:VCALENDAR
VERSION:2.0
PRODID:-//STADTKULTUR HAMBURG//kultur-hamburg.de///DE
CALSCALE:GREGORIAN
BEGIN:VEVENT
X-WR-TIMEZONE:Europe/Berlin
DTSTART:20140108T150000
DTEND:20140108T160000
LOCATION:Lenzsiedlung e.V. \, Julius-Vosseler-Straße 193 \, 22527 Hamburg
DTSTAMP:20260420T095901
SUMMARY:Deutsch-Konversation
URL;VALUE=URI:https://www.kultur-hamburg.de/kurse_workshops/deutsch-konversation-144711
DESCRIPTION:Menschen treffen und Deutsch sprechen. Ohne allen Schulstress, ohne Noten und Prüfungen
UID:1e4ed2839c5ead59478daeb90cc5091a@kulturhamburg
END:VEVENT
END:VCALENDAR