BEGIN:VCALENDAR
VERSION:2.0
PRODID:-//STADTKULTUR HAMBURG//kultur-hamburg.de///DE
CALSCALE:GREGORIAN
BEGIN:VEVENT
X-WR-TIMEZONE:Europe/Berlin
DTSTART:20140122T150000
DTEND:20140122T160000
LOCATION:Lenzsiedlung e.V. \, Julius-Vosseler-Straße 193 \, 22527 Hamburg
DTSTAMP:20260422T124426
SUMMARY:Deutsch-Konversation
URL;VALUE=URI:https://www.kultur-hamburg.de/kurse_workshops/deutsch-konversation-144713
DESCRIPTION:Menschen treffen und Deutsch sprechen. Ohne allen Schulstress, ohne Noten und Prüfungen
UID:5c95bb317a4bb2d1b9c421fbee00492f@kulturhamburg
END:VEVENT
END:VCALENDAR