BEGIN:VCALENDAR
VERSION:2.0
PRODID:-//STADTKULTUR HAMBURG//kultur-hamburg.de///DE
CALSCALE:GREGORIAN
BEGIN:VEVENT
X-WR-TIMEZONE:Europe/Berlin
DTSTART:20140219T150000
DTEND:20140219T160000
LOCATION:Lenzsiedlung e.V. \, Julius-Vosseler-Straße 193 \, 22527 Hamburg
DTSTAMP:20260422T190807
SUMMARY:Deutsch-Konversation
URL;VALUE=URI:https://www.kultur-hamburg.de/kurse_workshops/deutsch-konversation-144717
DESCRIPTION:Menschen treffen und Deutsch sprechen. Ohne allen Schulstress, ohne Noten und Prüfungen
UID:0eb5986a67a7cba6a7f5fcb4b7d3ddb9@kulturhamburg
END:VEVENT
END:VCALENDAR