BEGIN:VCALENDAR
VERSION:2.0
PRODID:-//STADTKULTUR HAMBURG//kultur-hamburg.de///DE
CALSCALE:GREGORIAN
BEGIN:VEVENT
X-WR-TIMEZONE:Europe/Berlin
DTSTART:20140625T150000
DTEND:20140625T160000
LOCATION:Lenzsiedlung e.V. \, Julius-Vosseler-Straße 193 \, 22527 Hamburg
DTSTAMP:20260424T012326
SUMMARY:Deutsch-Konversation
URL;VALUE=URI:https://www.kultur-hamburg.de/kurse_workshops/deutsch-konversation-144735
DESCRIPTION:Menschen treffen und Deutsch sprechen. Ohne allen Schulstress, ohne Noten und Prüfungen
UID:745695e75d7c6343c7d5593f0e33627e@kulturhamburg
END:VEVENT
END:VCALENDAR