BEGIN:VCALENDAR
VERSION:2.0
PRODID:-//STADTKULTUR HAMBURG//kultur-hamburg.de///DE
CALSCALE:GREGORIAN
BEGIN:VEVENT
X-WR-TIMEZONE:Europe/Berlin
DTSTART:20140723T150000
DTEND:20140723T160000
LOCATION:Lenzsiedlung e.V. \, Julius-Vosseler-Straße 193 \, 22527 Hamburg
DTSTAMP:20260424T073425
SUMMARY:Deutsch-Konversation
URL;VALUE=URI:https://www.kultur-hamburg.de/kurse_workshops/deutsch-konversation-144739
DESCRIPTION:Menschen treffen und Deutsch sprechen. Ohne allen Schulstress, ohne Noten und Prüfungen
UID:562171384d7b1830e6446ac2c66fbe21@kulturhamburg
END:VEVENT
END:VCALENDAR