BEGIN:VCALENDAR
VERSION:2.0
PRODID:-//STADTKULTUR HAMBURG//kultur-hamburg.de///DE
CALSCALE:GREGORIAN
BEGIN:VEVENT
X-WR-TIMEZONE:Europe/Berlin
DTSTART:20140401T110000
DTEND:20140401T123000
LOCATION:Lenzsiedlung e.V. \, Julius-Vosseler-Straße 193 \, 22527 Hamburg
DTSTAMP:20260423T053106
SUMMARY:Singkreis mit Gitarrenbegleitung
URL;VALUE=URI:https://www.kultur-hamburg.de/kurse_workshops/singkreis-mit-gitarrenbegleitung-144817
DESCRIPTION:immer dienstags im Salon des Bürgerhauses der Lenzsiedlung
UID:1ef48a410b6cf42c3e0deeb72ea9e17a@kulturhamburg
END:VEVENT
END:VCALENDAR