BEGIN:VCALENDAR
VERSION:2.0
PRODID:-//STADTKULTUR HAMBURG//kultur-hamburg.de///DE
CALSCALE:GREGORIAN
BEGIN:VEVENT
X-WR-TIMEZONE:Europe/Berlin
DTSTART:20140527T110000
DTEND:20140527T123000
LOCATION:Lenzsiedlung e.V. \, Julius-Vosseler-Straße 193 \, 22527 Hamburg
DTSTAMP:20260423T185802
SUMMARY:Singkreis mit Gitarrenbegleitung
URL;VALUE=URI:https://www.kultur-hamburg.de/kurse_workshops/singkreis-mit-gitarrenbegleitung-144825
DESCRIPTION:immer dienstags im Salon des Bürgerhauses der Lenzsiedlung
UID:f270369dd48d3ac30b3bd6d2fce20072@kulturhamburg
END:VEVENT
END:VCALENDAR