BEGIN:VCALENDAR
VERSION:2.0
PRODID:-//STADTKULTUR HAMBURG//kultur-hamburg.de///DE
CALSCALE:GREGORIAN
BEGIN:VEVENT
X-WR-TIMEZONE:Europe/Berlin
DTSTART:20140603T110000
DTEND:20140603T123000
LOCATION:Lenzsiedlung e.V. \, Julius-Vosseler-Straße 193 \, 22527 Hamburg
DTSTAMP:20260423T203653
SUMMARY:Singkreis mit Gitarrenbegleitung
URL;VALUE=URI:https://www.kultur-hamburg.de/kurse_workshops/singkreis-mit-gitarrenbegleitung-144826
DESCRIPTION:immer dienstags im Salon des Bürgerhauses der Lenzsiedlung
UID:cdef3315b737a7b565a97d93be5bfd0d@kulturhamburg
END:VEVENT
END:VCALENDAR