BEGIN:VCALENDAR
VERSION:2.0
PRODID:-//STADTKULTUR HAMBURG//kultur-hamburg.de///DE
CALSCALE:GREGORIAN
BEGIN:VEVENT
X-WR-TIMEZONE:Europe/Berlin
DTSTART:20140701T110000
DTEND:20140701T123000
LOCATION:Lenzsiedlung e.V. \, Julius-Vosseler-Straße 193 \, 22527 Hamburg
DTSTAMP:20260424T030955
SUMMARY:Singkreis mit Gitarrenbegleitung
URL;VALUE=URI:https://www.kultur-hamburg.de/kurse_workshops/singkreis-mit-gitarrenbegleitung-144830
DESCRIPTION:immer dienstags im Salon des Bürgerhauses der Lenzsiedlung
UID:716ad85fa796b3cbc3417f87c245f6a9@kulturhamburg
END:VEVENT
END:VCALENDAR