BEGIN:VCALENDAR
VERSION:2.0
PRODID:-//STADTKULTUR HAMBURG//kultur-hamburg.de///DE
CALSCALE:GREGORIAN
BEGIN:VEVENT
X-WR-TIMEZONE:Europe/Berlin
DTSTART:20140708T110000
DTEND:20140708T123000
LOCATION:Lenzsiedlung e.V. \, Julius-Vosseler-Straße 193 \, 22527 Hamburg
DTSTAMP:20260424T043419
SUMMARY:Singkreis mit Gitarrenbegleitung
URL;VALUE=URI:https://www.kultur-hamburg.de/kurse_workshops/singkreis-mit-gitarrenbegleitung-144831
DESCRIPTION:immer dienstags im Salon des Bürgerhauses der Lenzsiedlung
UID:f7f4c2a408c47f720601c06ba795d7b1@kulturhamburg
END:VEVENT
END:VCALENDAR