BEGIN:VCALENDAR
VERSION:2.0
PRODID:-//STADTKULTUR HAMBURG//kultur-hamburg.de///DE
CALSCALE:GREGORIAN
BEGIN:VEVENT
X-WR-TIMEZONE:Europe/Berlin
DTSTART:20131121T150000
DTEND:20131121T163000
LOCATION:KulturWerkstatt Harburg e.V. \, Kanalplatz 6 \, 21079 Hamburg
DTSTAMP:20260422T173041
SUMMARY:Orientalischer Tanz
URL;VALUE=URI:https://www.kultur-hamburg.de/kurse_workshops/orientalischer-tanz-148176
DESCRIPTION:
UID:47a9f5200f6b77906db6c70b00c4c520@kulturhamburg
END:VEVENT
END:VCALENDAR