BEGIN:VCALENDAR
VERSION:2.0
PRODID:-//STADTKULTUR HAMBURG//kultur-hamburg.de///DE
CALSCALE:GREGORIAN
BEGIN:VEVENT
X-WR-TIMEZONE:Europe/Berlin
DTSTART:20140306T180000
DTEND:20140306T190000
LOCATION:Bramfelder Kulturladen e. V. - BRAKULA \, Bramfelder Chaussee 265 \, 22177 Hamburg
DTSTAMP:20260422T222634
SUMMARY:Yogilates
URL;VALUE=URI:https://www.kultur-hamburg.de/kurse_workshops/yogilates-148744
DESCRIPTION:Steigern Sie Ihr Wohlbefinden mit den besten Übungen aus Yoga & Pilates.
Kursleitung: Mirja Fahs (Entspannungspädagogin)
UID:3f054e9421891247ff3fe99e2dd5c592@kulturhamburg
END:VEVENT
END:VCALENDAR