BEGIN:VCALENDAR
VERSION:2.0
PRODID:-//STADTKULTUR HAMBURG//kultur-hamburg.de///DE
CALSCALE:GREGORIAN
BEGIN:VEVENT
X-WR-TIMEZONE:Europe/Berlin
DTSTART:20140403T180000
DTEND:20140403T190000
LOCATION:Bramfelder Kulturladen e. V. - BRAKULA \, Bramfelder Chaussee 265 \, 22177 Hamburg
DTSTAMP:20260423T052953
SUMMARY:Yogilates
URL;VALUE=URI:https://www.kultur-hamburg.de/kurse_workshops/yogilates-148748
DESCRIPTION:Steigern Sie Ihr Wohlbefinden mit den besten Übungen aus Yoga & Pilates.
Kursleitung: Mirja Fahs (Entspannungspädagogin)
UID:64615768bcdfbb3304262f6479849df9@kulturhamburg
END:VEVENT
END:VCALENDAR