BEGIN:VCALENDAR
VERSION:2.0
PRODID:-//STADTKULTUR HAMBURG//kultur-hamburg.de///DE
CALSCALE:GREGORIAN
BEGIN:VEVENT
X-WR-TIMEZONE:Europe/Berlin
DTSTART:20140605T180000
DTEND:20140605T190000
LOCATION:Bramfelder Kulturladen e. V. - BRAKULA \, Bramfelder Chaussee 265 \, 22177 Hamburg
DTSTAMP:20260423T203546
SUMMARY:Yogilates
URL;VALUE=URI:https://www.kultur-hamburg.de/kurse_workshops/yogilates-148757
DESCRIPTION:Steigern Sie Ihr Wohlbefinden mit den besten Übungen aus Yoga & Pilates.
Kursleitung: Mirja Fahs (Entspannungspädagogin)
UID:1024bac23382f79f840276e424c062bd@kulturhamburg
END:VEVENT
END:VCALENDAR