BEGIN:VCALENDAR
VERSION:2.0
PRODID:-//STADTKULTUR HAMBURG//kultur-hamburg.de///DE
CALSCALE:GREGORIAN
BEGIN:VEVENT
X-WR-TIMEZONE:Europe/Berlin
DTSTART:20140612T180000
DTEND:20140612T190000
LOCATION:Bramfelder Kulturladen e. V. - BRAKULA \, Bramfelder Chaussee 265 \, 22177 Hamburg
DTSTAMP:20260423T220557
SUMMARY:Yogilates
URL;VALUE=URI:https://www.kultur-hamburg.de/kurse_workshops/yogilates-148758
DESCRIPTION:Steigern Sie Ihr Wohlbefinden mit den besten Übungen aus Yoga & Pilates.
Kursleitung: Mirja Fahs (Entspannungspädagogin)
UID:faffab94411912368efe437e3d3d3faf@kulturhamburg
END:VEVENT
END:VCALENDAR