BEGIN:VCALENDAR
VERSION:2.0
PRODID:-//STADTKULTUR HAMBURG//kultur-hamburg.de///DE
CALSCALE:GREGORIAN
BEGIN:VEVENT
X-WR-TIMEZONE:Europe/Berlin
DTSTART:20140626T180000
DTEND:20140626T190000
LOCATION:Bramfelder Kulturladen e. V. - BRAKULA \, Bramfelder Chaussee 265 \, 22177 Hamburg
DTSTAMP:20260424T012326
SUMMARY:Yogilates
URL;VALUE=URI:https://www.kultur-hamburg.de/kurse_workshops/yogilates-148760
DESCRIPTION:Steigern Sie Ihr Wohlbefinden mit den besten Übungen aus Yoga & Pilates.
Kursleitung: Mirja Fahs (Entspannungspädagogin)
UID:bc37b88e8f748cf306b57de6c345bead@kulturhamburg
END:VEVENT
END:VCALENDAR