BEGIN:VCALENDAR
VERSION:2.0
PRODID:-//STADTKULTUR HAMBURG//kultur-hamburg.de///DE
CALSCALE:GREGORIAN
BEGIN:VEVENT
X-WR-TIMEZONE:Europe/Berlin
DTSTART:20140107T090000
DTEND:20140107T103000
LOCATION:Bramfelder Kulturladen e. V. - BRAKULA \, Bramfelder Chaussee 265 \, 22177 Hamburg
DTSTAMP:20260420T095749
SUMMARY:Qi-Gong - Die 8 Brokate
URL;VALUE=URI:https://www.kultur-hamburg.de/kurse_workshops/qi-gong-die-8-brokate-149192
DESCRIPTION:Qi-Gong ist eine alte chinesische Bewegungskunst bei der Körper und Geist zusammengebracht werden.
Kursleitung: Claudia Röttgers-Blank
UID:f8653ac56232f2c5946dba288b6ff706@kulturhamburg
END:VEVENT
END:VCALENDAR